Workbook

Sheet 集計
A1: 売上 月別×得意先別 集計（2025年10月〜2026年9月）
A2: 金額は「元データ」シートからSUMIFSで集計（単位：円）
A4: 月 | B4: 得意先A | C4: 得意先B | D4: 得意先C | E4: 得意先D | F4: 得意先E | G4: 合計
A5: 45931 | B5: =SUMIFS(元データ!$E$2:$E$539,元データ!$B$2:$B$539,B$4,元データ!$A$2:$A$539,">="&$A5,元データ!$A$2:$A$539,"<"&EDATE($A5,1)) -> 780200 | C5: =SUMIFS(元データ!$E$2:$E$539,元データ!$B$2:$B$539,C$4,元データ!$A$2:$A$539,">="&$A5,元データ!$A$2:$A$539,"<"&EDATE($A5,1)) -> 660350 | D5: =SUMIFS(元データ!$E$2:$E$539,元データ!$B$2:$B$539,D$4,元データ!$A$2:$A$539,">="&$A5,元データ!$A$2:$A$539,"<"&EDATE($A5,1)) -> 488400 | E5: =SUMIFS(元データ!$E$2:$E$539,元データ!$B$2:$B$539,E$4,元データ!$A$2:$A$539,">="&$A5,元データ!$A$2:$A$539,"<"&EDATE($A5,1)) -> 402600 | F5: =SUMIFS(元データ!$E$2:$E$539,元データ!$B$2:$B$539,F$4,元データ!$A$2:$A$539,">="&$A5,元データ!$A$2:$A$539,"<"&EDATE($A5,1)) -> 413700 | G5: =SUM(B5:F5) -> 2745250
A6: =EDATE(A5,1) -> 45962 | B6: =SUMIFS(元データ!$E$2:$E$539,元データ!$B$2:$B$539,B$4,元データ!$A$2:$A$539,">="&$A6,元データ!$A$2:$A$539,"<"&EDATE($A6,1)) -> 405000 | C6: =SUMIFS(元データ!$E$2:$E$539,元データ!$B$2:$B$539,C$4,元データ!$A$2:$A$539,">="&$A6,元データ!$A$2:$A$539,"<"&EDATE($A6,1)) -> 361700 | D6: =SUMIFS(元データ!$E$2:$E$539,元データ!$B$2:$B$539,D$4,元データ!$A$2:$A$539,">="&$A6,元データ!$A$2:$A$539,"<"&EDATE($A6,1)) -> 719850 | E6: =SUMIFS(元データ!$E$2:$E$539,元データ!$B$2:$B$539,E$4,元データ!$A$2:$A$539,">="&$A6,元データ!$A$2:$A$539,"<"&EDATE($A6,1)) -> 469200 | F6: =SUMIFS(元データ!$E$2:$E$539,元データ!$B$2:$B$539,F$4,元データ!$A$2:$A$539,">="&$A6,元データ!$A$2:$A$539,"<"&EDATE($A6,1)) -> 518200 | G6: =SUM(B6:F6) -> 2473950
A7: =EDATE(A6,1) -> 45992 | B7: =SUMIFS(元データ!$E$2:$E$539,元データ!$B$2:$B$539,B$4,元データ!$A$2:$A$539,">="&$A7,元データ!$A$2:$A$539,"<"&EDATE($A7,1)) -> 554550 | C7: =SUMIFS(元データ!$E$2:$E$539,元データ!$B$2:$B$539,C$4,元データ!$A$2:$A$539,">="&$A7,元データ!$A$2:$A$539,"<"&EDATE($A7,1)) -> 480900 | D7: =SUMIFS(元データ!$E$2:$E$539,元データ!$B$2:$B$539,D$4,元データ!$A$2:$A$539,">="&$A7,元データ!$A$2:$A$539,"<"&EDATE($A7,1)) -> 624750 | E7: =SUMIFS(元データ!$E$2:$E$539,元データ!$B$2:$B$539,E$4,元データ!$A$2:$A$539,">="&$A7,元データ!$A$2:$A$539,"<"&EDATE($A7,1)) -> 328700 | F7: =SUMIFS(元データ!$E$2:$E$539,元データ!$B$2:$B$539,F$4,元データ!$A$2:$A$539,">="&$A7,元データ!$A$2:$A$539,"<"&EDATE($A7,1)) -> 547500 | G7: =SUM(B7:F7) -> 2536400
A8: =EDATE(A7,1) -> 46023 | B8: =SUMIFS(元データ!$E$2:$E$539,元データ!$B$2:$B$539,B$4,元データ!$A$2:$A$539,">="&$A8,元データ!$A$2:$A$539,"<"&EDATE($A8,1)) -> 436150 | C8: =SUMIFS(元データ!$E$2:$E$539,元データ!$B$2:$B$539,C$4,元データ!$A$2:$A$539,">="&$A8,元データ!$A$2:$A$539,"<"&EDATE($A8,1)) -> 723150 | D8: =SUMIFS(元データ!$E$2:$E$539,元データ!$B$2:$B$539,D$4,元データ!$A$2:$A$539,">="&$A8,元データ!$A$2:$A$539,"<"&EDATE($A8,1)) -> 459800 | E8: =SUMIFS(元データ!$E$2:$E$539,元データ!$B$2:$B$539,E$4,元データ!$A$2:$A$539,">="&$A8,元データ!$A$2:$A$539,"<"&EDATE($A8,1)) -> 139050 | F8: =SUMIFS(元データ!$E$2:$E$539,元データ!$B$2:$B$539,F$4,元データ!$A$2:$A$539,">="&$A8,元データ!$A$2:$A$539,"<"&EDATE($A8,1)) -> 515600 | G8: =SUM(B8:F8) -> 2273750
A9: =EDATE(A8,1) -> 46054 | B9: =SUMIFS(元データ!$E$2:$E$539,元データ!$B$2:$B$539,B$4,元データ!$A$2:$A$539,">="&$A9,元データ!$A$2:$A$539,"<"&EDATE($A9,1)) -> 328950 | C9: =SUMIFS(元データ!$E$2:$E$539,元データ!$B$2:$B$539,C$4,元データ!$A$2:$A$539,">="&$A9,元データ!$A$2:$A$539,"<"&EDATE($A9,1)) -> 523100 | D9: =SUMIFS(元データ!$E$2:$E$539,元データ!$B$2:$B$539,D$4,元データ!$A$2:$A$539,">="&$A9,元データ!$A$2:$A$539,"<"&EDATE($A9,1)) -> 373050 | E9: =SUMIFS(元データ!$E$2:$E$539,元データ!$B$2:$B$539,E$4,元データ!$A$2:$A$539,">="&$A9,元データ!$A$2:$A$539,"<"&EDATE($A9,1)) -> 555900 | F9: =SUMIFS(元データ!$E$2:$E$539,元データ!$B$2:$B$539,F$4,元データ!$A$2:$A$539,">="&$A9,元データ!$A$2:$A$539,"<"&EDATE($A9,1)) -> 492300 | G9: =SUM(B9:F9) -> 2273300
A10: =EDATE(A9,1) -> 46082 | B10: =SUMIFS(元データ!$E$2:$E$539,元データ!$B$2:$B$539,B$4,元データ!$A$2:$A$539,">="&$A10,元データ!$A$2:$A$539,"<"&EDATE($A10,1)) -> 433400 | C10: =SUMIFS(元データ!$E$2:$E$539,元データ!$B$2:$B$539,C$4,元データ!$A$2:$A$539,">="&$A10,元データ!$A$2:$A$539,"<"&EDATE($A10,1)) -> 152600 | D10: =SUMIFS(元データ!$E$2:$E$539,元データ!$B$2:$B$539,D$4,元データ!$A$2:$A$539,">="&$A10,元データ!$A$2:$A$539,"<"&EDATE($A10,1)) -> 643600 | E10: =SUMIFS(元データ!$E$2:$E$539,元データ!$B$2:$B$539,E$4,元データ!$A$2:$A$539,">="&$A10,元データ!$A$2:$A$539,"<"&EDATE($A10,1)) -> 334200 | F10: =SUMIFS(元データ!$E$2:$E$539,元データ!$B$2:$B$539,F$4,元データ!$A$2:$A$539,">="&$A10,元データ!$A$2:$A$539,"<"&EDATE($A10,1)) -> 445850 | G10: =SUM(B10:F10) -> 2009650
A11: =EDATE(A10,1) -> 46113 | B11: =SUMIFS(元データ!$E$2:$E$539,元データ!$B$2:$B$539,B$4,元データ!$A$2:$A$539,">="&$A11,元データ!$A$2:$A$539,"<"&EDATE($A11,1)) -> 548400 | C11: =SUMIFS(元データ!$E$2:$E$539,元データ!$B$2:$B$539,C$4,元データ!$A$2:$A$539,">="&$A11,元データ!$A$2:$A$539,"<"&EDATE($A11,1)) -> 383900 | D11: =SUMIFS(元データ!$E$2:$E$539,元データ!$B$2:$B$539,D$4,元データ!$A$2:$A$539,">="&$A11,元データ!$A$2:$A$539,"<"&EDATE($A11,1)) -> 346600 | E11: =SUMIFS(元データ!$E$2:$E$539,元データ!$B$2:$B$539,E$4,元データ!$A$2:$A$539,">="&$A11,元データ!$A$2:$A$539,"<"&EDATE($A11,1)) -> 542400 | F11: =SUMIFS(元データ!$E$2:$E$539,元データ!$B$2:$B$539,F$4,元データ!$A$2:$A$539,">="&$A11,元データ!$A$2:$A$539,"<"&EDATE($A11,1)) -> 412800 | G11: =SUM(B11:F11) -> 2234100
A12: =EDATE(A11,1) -> 46143 | B12: =SUMIFS(元データ!$E$2:$E$539,元データ!$B$2:$B$539,B$4,元データ!$A$2:$A$539,">="&$A12,元データ!$A$2:$A$539,"<"&EDATE($A12,1)) -> 459050 | C12: =SUMIFS(元データ!$E$2:$E$539,元データ!$B$2:$B$539,C$4,元データ!$A$2:$A$539,">="&$A12,元データ!$A$2:$A$539,"<"&EDATE($A12,1)) -> 563900 | D12: =SUMIFS(元データ!$E$2:$E$539,元データ!$B$2:$B$539,D$4,元データ!$A$2:$A$539,">="&$A12,元データ!$A$2:$A$539,"<"&EDATE($A12,1)) -> 572700 | E12: =SUMIFS(元データ!$E$2:$E$539,元データ!$B$2:$B$539,E$4,元データ!$A$2:$A$539,">="&$A12,元データ!$A$2:$A$539,"<"&EDATE($A12,1)) -> 152400 | F12: =SUMIFS(元データ!$E$2:$E$539,元データ!$B$2:$B$539,F$4,元データ!$A$2:$A$539,">="&$A12,元データ!$A$2:$A$539,"<"&EDATE($A12,1)) -> 421150 | G12: =SUM(B12:F12) -> 2169200
A13: =EDATE(A12,1) -> 46174 | B13: =SUMIFS(元データ!$E$2:$E$539,元データ!$B$2:$B$539,B$4,元データ!$A$2:$A$539,">="&$A13,元データ!$A$2:$A$539,"<"&EDATE($A13,1)) -> 813100 | C13: =SUMIFS(元データ!$E$2:$E$539,元データ!$B$2:$B$539,C$4,元データ!$A$2:$A$539,">="&$A13,元データ!$A$2:$A$539,"<"&EDATE($A13,1)) -> 222550 | D13: =SUMIFS(元データ!$E$2:$E$539,元データ!$B$2:$B$539,D$4,元データ!$A$2:$A$539,">="&$A13,元データ!$A$2:$A$539,"<"&EDATE($A13,1)) -> 914500 | E13: =SUMIFS(元データ!$E$2:$E$539,元データ!$B$2:$B$539,E$4,元データ!$A$2:$A$539,">="&$A13,元データ!$A$2:$A$539,"<"&EDATE($A13,1)) -> 167250 | F13: =SUMIFS(元データ!$E$2:$E$539,元データ!$B$2:$B$539,F$4,元データ!$A$2:$A$539,">="&$A13,元データ!$A$2:$A$539,"<"&EDATE($A13,1)) -> 518850 | G13: =SUM(B13:F13) -> 2636250
A14: =EDATE(A13,1) -> 46204 | B14: =SUMIFS(元データ!$E$2:$E$539,元データ!$B$2:$B$539,B$4,元データ!$A$2:$A$539,">="&$A14,元データ!$A$2:$A$539,"<"&EDATE($A14,1)) -> 414600 | C14: =SUMIFS(元データ!$E$2:$E$539,元データ!$B$2:$B$539,C$4,元データ!$A$2:$A$539,">="&$A14,元データ!$A$2:$A$539,"<"&EDATE($A14,1)) -> 514400 | D14: =SUMIFS(元データ!$E$2:$E$539,元データ!$B$2:$B$539,D$4,元データ!$A$2:$A$539,">="&$A14,元データ!$A$2:$A$539,"<"&EDATE($A14,1)) -> 645750 | E14: =SUMIFS(元データ!$E$2:$E$539,元データ!$B$2:$B$539,E$4,元データ!$A$2:$A$539,">="&$A14,元データ!$A$2:$A$539,"<"&EDATE($A14,1)) -> 547750 | F14: =SUMIFS(元データ!$E$2:$E$539,元データ!$B$2:$B$539,F$4,元データ!$A$2:$A$539,">="&$A14,元データ!$A$2:$A$539,"<"&EDATE($A14,1)) -> 655150 | G14: =SUM(B14:F14) -> 2777650
A15: =EDATE(A14,1) -> 46235 | B15: =SUMIFS(元データ!$E$2:$E$539,元データ!$B$2:$B$539,B$4,元データ!$A$2:$A$539,">="&$A15,元データ!$A$2:$A$539,"<"&EDATE($A15,1)) -> 514550 | C15: =SUMIFS(元データ!$E$2:$E$539,元データ!$B$2:$B$539,C$4,元データ!$A$2:$A$539,">="&$A15,元データ!$A$2:$A$539,"<"&EDATE($A15,1)) -> 826950 | D15: =SUMIFS(元データ!$E$2:$E$539,元データ!$B$2:$B$539,D$4,元データ!$A$2:$A$539,">="&$A15,元データ!$A$2:$A$539,"<"&EDATE($A15,1)) -> 623100 | E15: =SUMIFS(元データ!$E$2:$E$539,元データ!$B$2:$B$539,E$4,元データ!$A$2:$A$539,">="&$A15,元データ!$A$2:$A$539,"<"&EDATE($A15,1)) -> 1005100 | F15: =SUMIFS(元データ!$E$2:$E$539,元データ!$B$2:$B$539,F$4,元データ!$A$2:$A$539,">="&$A15,元データ!$A$2:$A$539,"<"&EDATE($A15,1)) -> 1165500 | G15: =SUM(B15:F15) -> 4135200
A16: =EDATE(A15,1) -> 46266 | B16: =SUMIFS(元データ!$E$2:$E$539,元データ!$B$2:$B$539,B$4,元データ!$A$2:$A$539,">="&$A16,元データ!$A$2:$A$539,"<"&EDATE($A16,1)) -> 333800 | C16: =SUMIFS(元データ!$E$2:$E$539,元データ!$B$2:$B$539,C$4,元データ!$A$2:$A$539,">="&$A16,元データ!$A$2:$A$539,"<"&EDATE($A16,1)) -> 242750 | D16: =SUMIFS(元データ!$E$2:$E$539,元データ!$B$2:$B$539,D$4,元データ!$A$2:$A$539,">="&$A16,元データ!$A$2:$A$539,"<"&EDATE($A16,1)) -> 914550 | E16: =SUMIFS(元データ!$E$2:$E$539,元データ!$B$2:$B$539,E$4,元データ!$A$2:$A$539,">="&$A16,元データ!$A$2:$A$539,"<"&EDATE($A16,1)) -> 372550 | F16: =SUMIFS(元データ!$E$2:$E$539,元データ!$B$2:$B$539,F$4,元データ!$A$2:$A$539,">="&$A16,元データ!$A$2:$A$539,"<"&EDATE($A16,1)) -> 894550 | G16: =SUM(B16:F16) -> 2758200
A17: 年間合計 | B17: =SUM(B5:B16) -> 6021750 | C17: =SUM(C5:C16) -> 5656250 | D17: =SUM(D5:D16) -> 7326650 | E17: =SUM(E5:E16) -> 5017100 | F17: =SUM(F5:F16) -> 7001150 | G17: =SUM(G5:G16) -> 31022900
A20: 得意先別 構成比（年間）
A21: 得意先 | B21: 年間金額 | C21: 構成比
A22: =B4 -> 得意先A | B22: =B17 -> 6021750 | C22: =B22/$B$27 -> 0.19410661
A23: =C4 -> 得意先B | B23: =C17 -> 5656250 | C23: =B23/$B$27 -> 0.18232499
A24: =D4 -> 得意先C | B24: =D17 -> 7326650 | C24: =B24/$B$27 -> 0.23616909
A25: =E4 -> 得意先D | B25: =E17 -> 5017100 | C25: =B25/$B$27 -> 0.16172247
A26: =F4 -> 得意先E | B26: =F17 -> 7001150 | C26: =B26/$B$27 -> 0.22567684
A27: 合計 | B27: =SUM(B22:B26) -> 31022900 | C27: =SUM(C22:C26) -> 1
A30: 検算欄（12冊の元ファイルとの照合）
A31: 「元ファイルの行数・金額」は、12冊を読み込んだ時点の値（実測値）を転記したもの。右側は本ブックの式で計算。
A32: 元ファイル | B32: 元ファイルの行数 | C32: 元ファイルの金額合計 | D32: 元データの行数 | E32: 元データの金額合計 | F32: 差（金額） | G32: 判定
A33: 売上_2025-10.xlsx | B33: 47 | C33: 2745250 | D33: =COUNTIF(元データ!$F$2:$F$539,A33) -> 47 | E33: =SUMIFS(元データ!$E$2:$E$539,元データ!$F$2:$F$539,A33) -> 2745250 | F33: =E33-C33 -> 0 | G33: =IF(AND(B33=D33,F33=0),"OK","要確認") -> OK
A34: 売上_2025-11.xlsx | B34: 45 | C34: 2473950 | D34: =COUNTIF(元データ!$F$2:$F$539,A34) -> 45 | E34: =SUMIFS(元データ!$E$2:$E$539,元データ!$F$2:$F$539,A34) -> 2473950 | F34: =E34-C34 -> 0 | G34: =IF(AND(B34=D34,F34=0),"OK","要確認") -> OK
A35: 売上_2025-12.xlsx | B35: 47 | C35: 2536400 | D35: =COUNTIF(元データ!$F$2:$F$539,A35) -> 47 | E35: =SUMIFS(元データ!$E$2:$E$539,元データ!$F$2:$F$539,A35) -> 2536400 | F35: =E35-C35 -> 0 | G35: =IF(AND(B35=D35,F35=0),"OK","要確認") -> OK
A36: 売上_2026-01.xlsx | B36: 45 | C36: 2273750 | D36: =COUNTIF(元データ!$F$2:$F$539,A36) -> 45 | E36: =SUMIFS(元データ!$E$2:$E$539,元データ!$F$2:$F$539,A36) -> 2273750 | F36: =E36-C36 -> 0 | G36: =IF(AND(B36=D36,F36=0),"OK","要確認") -> OK
A37: 売上_2026-02.xlsx | B37: 45 | C37: 2273300 | D37: =COUNTIF(元データ!$F$2:$F$539,A37) -> 45 | E37: =SUMIFS(元データ!$E$2:$E$539,元データ!$F$2:$F$539,A37) -> 2273300 | F37: =E37-C37 -> 0 | G37: =IF(AND(B37=D37,F37=0),"OK","要確認") -> OK
A38: 売上_2026-03.xlsx | B38: 43 | C38: 2009650 | D38: =COUNTIF(元データ!$F$2:$F$539,A38) -> 43 | E38: =SUMIFS(元データ!$E$2:$E$539,元データ!$F$2:$F$539,A38) -> 2009650 | F38: =E38-C38 -> 0 | G38: =IF(AND(B38=D38,F38=0),"OK","要確認") -> OK
A39: 売上_2026-04.xlsx | B39: 46 | C39: 2234100 | D39: =COUNTIF(元データ!$F$2:$F$539,A39) -> 46 | E39: =SUMIFS(元データ!$E$2:$E$539,元データ!$F$2:$F$539,A39) -> 2234100 | F39: =E39-C39 -> 0 | G39: =IF(AND(B39=D39,F39=0),"OK","要確認") -> OK
A40: 売上_2026-05.xlsx | B40: 44 | C40: 2169200 | D40: =COUNTIF(元データ!$F$2:$F$539,A40) -> 44 | E40: =SUMIFS(元データ!$E$2:$E$539,元データ!$F$2:$F$539,A40) -> 2169200 | F40: =E40-C40 -> 0 | G40: =IF(AND(B40=D40,F40=0),"OK","要確認") -> OK
A41: 売上_2026-06.xlsx | B41: 43 | C41: 2636250 | D41: =COUNTIF(元データ!$F$2:$F$539,A41) -> 43 | E41: =SUMIFS(元データ!$E$2:$E$539,元データ!$F$2:$F$539,A41) -> 2636250 | F41: =E41-C41 -> 0 | G41: =IF(AND(B41=D41,F41=0),"OK","要確認") -> OK
A42: 売上_2026-07.xlsx | B42: 43 | C42: 2777650 | D42: =COUNTIF(元データ!$F$2:$F$539,A42) -> 43 | E42: =SUMIFS(元データ!$E$2:$E$539,元データ!$F$2:$F$539,A42) -> 2777650 | F42: =E42-C42 -> 0 | G42: =IF(AND(B42=D42,F42=0),"OK","要確認") -> OK
A43: 売上_2026-08.xlsx | B43: 45 | C43: 4135200 | D43: =COUNTIF(元データ!$F$2:$F$539,A43) -> 45 | E43: =SUMIFS(元データ!$E$2:$E$539,元データ!$F$2:$F$539,A43) -> 4135200 | F43: =E43-C43 -> 0 | G43: =IF(AND(B43=D43,F43=0),"OK","要確認") -> OK
A44: 売上_2026-09.xlsx | B44: 45 | C44: 2758200 | D44: =COUNTIF(元データ!$F$2:$F$539,A44) -> 45 | E44: =SUMIFS(元データ!$E$2:$E$539,元データ!$F$2:$F$539,A44) -> 2758200 | F44: =E44-C44 -> 0 | G44: =IF(AND(B44=D44,F44=0),"OK","要確認") -> OK
A45: 12冊 合計 | B45: =SUM(B33:B44) -> 538 | C45: =SUM(C33:C44) -> 31022900 | D45: =SUM(D33:D44) -> 538 | E45: =SUM(E33:E44) -> 31022900 | F45: =E45-C45 -> 0 | G45: =IF(AND(B45=D45,F45=0),"OK","要確認") -> OK
A47: 集計表の年間合計 と 12冊の合計 の照合
A48: 照合項目 | B48: 値 | C48: 比較対象 | D48: 値 | E48: 差 | F48: 判定
A49: ①集計表の年間合計（G17） | B49: =G17 -> 31022900 | C49: 12冊の金額合計（C45） | D49: =C45 -> 31022900 | E49: =B49-D49 -> 0 | F49: =IF(E49=0,"OK","要確認") -> OK
A50: ②集計表の年間合計（G17） | B50: =G17 -> 31022900 | C50: 元データ シート E列の総和 | D50: =SUM(元データ!$E$2:$E$539) -> 31022900 | E50: =B50-D50 -> 0 | F50: =IF(E50=0,"OK","要確認") -> OK
A51: ③元データの行数 | B51: =COUNTA(元データ!$B$2:$B$539) -> 538 | C51: 12冊の行数合計（B45） | D51: =B45 -> 538 | E51: =B51-D51 -> 0 | F51: =IF(E51=0,"OK","要確認") -> OK
A52: ④構成比表の合計（B27） | B52: =B27 -> 31022900 | C52: 集計表の年間合計（G17） | D52: =G17 -> 31022900 | E52: =B52-D52 -> 0 | F52: =IF(E52=0,"OK","要確認") -> OK
A54: 総合判定 | B54: =IF(AND(COUNTIF(G33:G45,"OK")=13,COUNTIF(F49:F52,"OK")=4),"すべて一致","不一致あり") -> すべて一致

Sheet 元データ
A1: 日付 | B1: 得意先 | C1: 商品 | D1: 数量 | E1: 金額 | F1: 元ファイル
A2: 45931 | B2: 得意先D | C2: 商品X | D2: 51 | E2: 61200 | F2: 売上_2025-10.xlsx
A3: 45931 | B3: 得意先A | C3: 商品X | D3: 43 | E3: 51600 | F3: 売上_2025-10.xlsx
A4: 45931 | B4: 得意先E | C4: 商品Y | D4: 34 | E4: 28900 | F4: 売上_2025-10.xlsx
A5: 45932 | B5: 得意先D | C5: 商品X | D5: 14 | E5: 16800 | F5: 売上_2025-10.xlsx
A6: 45932 | B6: 得意先A | C6: 商品Y | D6: 16 | E6: 13600 | F6: 売上_2025-10.xlsx
A7: 45933 | B7: 得意先B | C7: 商品X | D7: 59 | E7: 70800 | F7: 売上_2025-10.xlsx
A8: 45933 | B8: 得意先D | C8: 商品Y | D8: 16 | E8: 13600 | F8: 売上_2025-10.xlsx
A9: 45936 | B9: 得意先A | C9: 商品X | D9: 49 | E9: 58800 | F9: 売上_2025-10.xlsx
A10: 45936 | B10: 得意先A | C10: 商品Z | D10: 42 | E10: 100800 | F10: 売上_2025-10.xlsx
A11: 45937 | B11: 得意先B | C11: 商品X | D11: 59 | E11: 70800 | F11: 売上_2025-10.xlsx
A12: 45937 | B12: 得意先B | C12: 商品X | D12: 55 | E12: 66000 | F12: 売上_2025-10.xlsx
A13: 45938 | B13: 得意先D | C13: 商品Z | D13: 35 | E13: 84000 | F13: 売上_2025-10.xlsx
... A539: 46295 | B539: 得意先B | C539: 商品Y | D539: 28 | E539: 23800 | F539: 売上_2026-09.xlsx
